BEGIN:VCALENDAR
VERSION:2.0
PRODID:-//Town of York - ECPv6.15.20//NONSGML v1.0//EN
CALSCALE:GREGORIAN
METHOD:PUBLISH
X-WR-CALNAME:Town of York
X-ORIGINAL-URL:https://townofyork.org
X-WR-CALDESC:Events for Town of York
REFRESH-INTERVAL;VALUE=DURATION:PT1H
X-Robots-Tag:noindex
X-PUBLISHED-TTL:PT1H
BEGIN:VTIMEZONE
TZID:America/Chicago
BEGIN:DAYLIGHT
TZOFFSETFROM:-0600
TZOFFSETTO:-0500
TZNAME:CDT
DTSTART:20220313T080000
END:DAYLIGHT
BEGIN:STANDARD
TZOFFSETFROM:-0500
TZOFFSETTO:-0600
TZNAME:CST
DTSTART:20221106T070000
END:STANDARD
BEGIN:DAYLIGHT
TZOFFSETFROM:-0600
TZOFFSETTO:-0500
TZNAME:CDT
DTSTART:20230312T080000
END:DAYLIGHT
BEGIN:STANDARD
TZOFFSETFROM:-0500
TZOFFSETTO:-0600
TZNAME:CST
DTSTART:20231105T070000
END:STANDARD
BEGIN:DAYLIGHT
TZOFFSETFROM:-0600
TZOFFSETTO:-0500
TZNAME:CDT
DTSTART:20240310T080000
END:DAYLIGHT
BEGIN:STANDARD
TZOFFSETFROM:-0500
TZOFFSETTO:-0600
TZNAME:CST
DTSTART:20241103T070000
END:STANDARD
END:VTIMEZONE
BEGIN:VEVENT
DTSTART;TZID=America/Chicago:20230110T190000
DTEND;TZID=America/Chicago:20230110T193000
DTSTAMP:20260424T092452
CREATED:20230107T214815Z
LAST-MODIFIED:20230107T214815Z
UID:9247-1673377200-1673379000@townofyork.org
SUMMARY:Town Caucus
DESCRIPTION:The Town caucus to nominate candidates for the Town Board\, for the election to be held in April\, will take place at the Town Hall on Tuesday January 10\, at 7pm.
URL:https://townofyork.org/event/town-caucus-2/
LOCATION:York Town Hall\, N8105 Postville Road\, Blanchardville\, WI\, 53516\, United States
CATEGORIES:Elections
END:VEVENT
END:VCALENDAR