BEGIN:VCALENDAR
VERSION:2.0
PRODID:-//Town of York - ECPv6.15.20//NONSGML v1.0//EN
CALSCALE:GREGORIAN
METHOD:PUBLISH
X-WR-CALNAME:Town of York
X-ORIGINAL-URL:https://townofyork.org
X-WR-CALDESC:Events for Town of York
REFRESH-INTERVAL;VALUE=DURATION:PT1H
X-Robots-Tag:noindex
X-PUBLISHED-TTL:PT1H
BEGIN:VTIMEZONE
TZID:America/Chicago
BEGIN:DAYLIGHT
TZOFFSETFROM:-0600
TZOFFSETTO:-0500
TZNAME:CDT
DTSTART:20240310T080000
END:DAYLIGHT
BEGIN:STANDARD
TZOFFSETFROM:-0500
TZOFFSETTO:-0600
TZNAME:CST
DTSTART:20241103T070000
END:STANDARD
BEGIN:DAYLIGHT
TZOFFSETFROM:-0600
TZOFFSETTO:-0500
TZNAME:CDT
DTSTART:20250309T080000
END:DAYLIGHT
BEGIN:STANDARD
TZOFFSETFROM:-0500
TZOFFSETTO:-0600
TZNAME:CST
DTSTART:20251102T070000
END:STANDARD
BEGIN:DAYLIGHT
TZOFFSETFROM:-0600
TZOFFSETTO:-0500
TZNAME:CDT
DTSTART:20260308T080000
END:DAYLIGHT
BEGIN:STANDARD
TZOFFSETFROM:-0500
TZOFFSETTO:-0600
TZNAME:CST
DTSTART:20261101T070000
END:STANDARD
END:VTIMEZONE
BEGIN:VEVENT
DTSTART;TZID=America/Chicago:20250212T100000
DTEND;TZID=America/Chicago:20250212T110000
DTSTAMP:20260422T162219
CREATED:20250115T195656Z
LAST-MODIFIED:20250115T195736Z
UID:10289-1739354400-1739358000@townofyork.org
SUMMARY:TEST VOTING MACHINE
DESCRIPTION:The public test of the tabulating equipment to be used at the election on February 18\, 2025\, will be conducted at the Town of York – Town Hall at 10 AM on WEDNESDAY\, February 12\, 2025.
URL:https://townofyork.org/event/test-voting-machine-february-12-2025/
LOCATION:York Town Hall\, N8105 Postville Road\, Blanchardville\, WI\, 53516\, United States
CATEGORIES:Elections
ORGANIZER;CN="Town of York":MAILTO:info@townofyork.org
END:VEVENT
BEGIN:VEVENT
DTSTART;TZID=America/Chicago:20250218T070000
DTEND;TZID=America/Chicago:20250218T200000
DTSTAMP:20260422T162219
CREATED:20250113T203421Z
LAST-MODIFIED:20250129T161602Z
UID:10265-1739862000-1739908800@townofyork.org
SUMMARY:2025 SPRING PRIMARY
DESCRIPTION:
URL:https://townofyork.org/event/spring-primary/
LOCATION:York Town Hall\, N8105 Postville Road\, Blanchardville\, WI\, 53516\, United States
CATEGORIES:Elections
ORGANIZER;CN="Town of York":MAILTO:info@townofyork.org
END:VEVENT
END:VCALENDAR