BEGIN:VCALENDAR
VERSION:2.0
PRODID:-//Town of York - ECPv6.15.20//NONSGML v1.0//EN
CALSCALE:GREGORIAN
METHOD:PUBLISH
X-ORIGINAL-URL:https://townofyork.org
X-WR-CALDESC:Events for Town of York
REFRESH-INTERVAL;VALUE=DURATION:PT1H
X-Robots-Tag:noindex
X-PUBLISHED-TTL:PT1H
BEGIN:VTIMEZONE
TZID:America/Chicago
BEGIN:DAYLIGHT
TZOFFSETFROM:-0600
TZOFFSETTO:-0500
TZNAME:CDT
DTSTART:20250309T080000
END:DAYLIGHT
BEGIN:STANDARD
TZOFFSETFROM:-0500
TZOFFSETTO:-0600
TZNAME:CST
DTSTART:20251102T070000
END:STANDARD
BEGIN:DAYLIGHT
TZOFFSETFROM:-0600
TZOFFSETTO:-0500
TZNAME:CDT
DTSTART:20260308T080000
END:DAYLIGHT
BEGIN:STANDARD
TZOFFSETFROM:-0500
TZOFFSETTO:-0600
TZNAME:CST
DTSTART:20261101T070000
END:STANDARD
BEGIN:DAYLIGHT
TZOFFSETFROM:-0600
TZOFFSETTO:-0500
TZNAME:CDT
DTSTART:20270314T080000
END:DAYLIGHT
BEGIN:STANDARD
TZOFFSETFROM:-0500
TZOFFSETTO:-0600
TZNAME:CST
DTSTART:20271107T070000
END:STANDARD
END:VTIMEZONE
BEGIN:VEVENT
DTSTART;TZID=America/Chicago:20260811T070000
DTEND;TZID=America/Chicago:20260811T200000
DTSTAMP:20260421T180356
CREATED:20250421T161830Z
LAST-MODIFIED:20250421T161830Z
UID:10873-1786431600-1786478400@townofyork.org
SUMMARY:2026 PARTISAN PRIMARY
DESCRIPTION:
URL:https://townofyork.org/event/2026-partisan-primary/
LOCATION:York Town Hall\, N8105 Postville Road\, Blanchardville\, WI\, 53516\, United States
CATEGORIES:Elections
ORGANIZER;CN="Town of York":MAILTO:info@townofyork.org
END:VEVENT
BEGIN:VEVENT
DTSTART;TZID=America/Chicago:20261103T070000
DTEND;TZID=America/Chicago:20261103T200000
DTSTAMP:20260421T180356
CREATED:20250421T161921Z
LAST-MODIFIED:20250421T161921Z
UID:10875-1793689200-1793736000@townofyork.org
SUMMARY:2026 GENERAL ELECTION
DESCRIPTION:
URL:https://townofyork.org/event/2026-general-election/
LOCATION:York Town Hall\, N8105 Postville Road\, Blanchardville\, WI\, 53516\, United States
CATEGORIES:Elections
ORGANIZER;CN="Town of York":MAILTO:info@townofyork.org
END:VEVENT
END:VCALENDAR