BEGIN:VCALENDAR
VERSION:2.0
PRODID:-//Town of York - ECPv6.15.20//NONSGML v1.0//EN
CALSCALE:GREGORIAN
METHOD:PUBLISH
X-ORIGINAL-URL:https://townofyork.org
X-WR-CALDESC:Events for Town of York
REFRESH-INTERVAL;VALUE=DURATION:PT1H
X-Robots-Tag:noindex
X-PUBLISHED-TTL:PT1H
BEGIN:VTIMEZONE
TZID:America/Chicago
BEGIN:DAYLIGHT
TZOFFSETFROM:-0600
TZOFFSETTO:-0500
TZNAME:CDT
DTSTART:20230312T080000
END:DAYLIGHT
BEGIN:STANDARD
TZOFFSETFROM:-0500
TZOFFSETTO:-0600
TZNAME:CST
DTSTART:20231105T070000
END:STANDARD
BEGIN:DAYLIGHT
TZOFFSETFROM:-0600
TZOFFSETTO:-0500
TZNAME:CDT
DTSTART:20240310T080000
END:DAYLIGHT
BEGIN:STANDARD
TZOFFSETFROM:-0500
TZOFFSETTO:-0600
TZNAME:CST
DTSTART:20241103T070000
END:STANDARD
BEGIN:DAYLIGHT
TZOFFSETFROM:-0600
TZOFFSETTO:-0500
TZNAME:CDT
DTSTART:20250309T080000
END:DAYLIGHT
BEGIN:STANDARD
TZOFFSETFROM:-0500
TZOFFSETTO:-0600
TZNAME:CST
DTSTART:20251102T070000
END:STANDARD
END:VTIMEZONE
BEGIN:VEVENT
DTSTART;TZID=America/Chicago:20240810T090000
DTEND;TZID=America/Chicago:20240810T150000
DTSTAMP:20260422T182935
CREATED:20240712T212431Z
LAST-MODIFIED:20240712T212431Z
UID:9859-1723280400-1723302000@townofyork.org
SUMMARY:Brazen Dropouts bicycle race through Green County
DESCRIPTION:Date: Saturday August 10\, 2024\nTime: 5:00am-4:00pm (races running from 9:00am-3:00pm)\nRoute: https://www.strava.com/routes/4363884\nExpected attendance: 200 cyclists\nRoad closures: none\nWebsite: http://www.brazendropouts.org/road-race
URL:https://townofyork.org/event/brazen-dropouts-bicycle-race-through-green-county/
LOCATION:WI
CATEGORIES:Other
END:VEVENT
END:VCALENDAR