BEGIN:VCALENDAR
VERSION:2.0
PRODID:-//Town of York - ECPv6.15.20//NONSGML v1.0//EN
CALSCALE:GREGORIAN
METHOD:PUBLISH
X-ORIGINAL-URL:https://townofyork.org
X-WR-CALDESC:Events for Town of York
REFRESH-INTERVAL;VALUE=DURATION:PT1H
X-Robots-Tag:noindex
X-PUBLISHED-TTL:PT1H
BEGIN:VTIMEZONE
TZID:America/Chicago
BEGIN:DAYLIGHT
TZOFFSETFROM:-0600
TZOFFSETTO:-0500
TZNAME:CDT
DTSTART:20240310T080000
END:DAYLIGHT
BEGIN:STANDARD
TZOFFSETFROM:-0500
TZOFFSETTO:-0600
TZNAME:CST
DTSTART:20241103T070000
END:STANDARD
BEGIN:DAYLIGHT
TZOFFSETFROM:-0600
TZOFFSETTO:-0500
TZNAME:CDT
DTSTART:20250309T080000
END:DAYLIGHT
BEGIN:STANDARD
TZOFFSETFROM:-0500
TZOFFSETTO:-0600
TZNAME:CST
DTSTART:20251102T070000
END:STANDARD
BEGIN:DAYLIGHT
TZOFFSETFROM:-0600
TZOFFSETTO:-0500
TZNAME:CDT
DTSTART:20260308T080000
END:DAYLIGHT
BEGIN:STANDARD
TZOFFSETFROM:-0500
TZOFFSETTO:-0600
TZNAME:CST
DTSTART:20261101T070000
END:STANDARD
END:VTIMEZONE
BEGIN:VEVENT
DTSTART;TZID=America/Chicago:20250504T130000
DTEND;TZID=America/Chicago:20250504T150000
DTSTAMP:20260422T040009
CREATED:20250421T190154Z
LAST-MODIFIED:20250421T190154Z
UID:10883-1746363600-1746370800@townofyork.org
SUMMARY:Woodhills HOA Annual Meeting
DESCRIPTION:The Woodhills subdivision will hold their annual HOA meeting at the Town Hall on May 4\, 2025 from 1pm – 3pm.  Any questions\, please contact Jason @ (608) 225-9298. \nTHIS IS NOT A TOWN BOARD SPONSORED MEETING. \n 
URL:https://townofyork.org/event/woodhills-hoa-annual-meeting/
LOCATION:York Town Hall\, N8105 Postville Road\, Blanchardville\, WI\, 53516\, United States
CATEGORIES:Other
ORGANIZER;CN="Town of York":MAILTO:info@townofyork.org
END:VEVENT
END:VCALENDAR