BEGIN:VCALENDAR
VERSION:2.0
PRODID:-//Town of York - ECPv6.15.20//NONSGML v1.0//EN
CALSCALE:GREGORIAN
METHOD:PUBLISH
X-ORIGINAL-URL:https://townofyork.org
X-WR-CALDESC:Events for Town of York
REFRESH-INTERVAL;VALUE=DURATION:PT1H
X-Robots-Tag:noindex
X-PUBLISHED-TTL:PT1H
BEGIN:VTIMEZONE
TZID:America/Chicago
BEGIN:DAYLIGHT
TZOFFSETFROM:-0600
TZOFFSETTO:-0500
TZNAME:CDT
DTSTART:20180311T080000
END:DAYLIGHT
BEGIN:STANDARD
TZOFFSETFROM:-0500
TZOFFSETTO:-0600
TZNAME:CST
DTSTART:20181104T070000
END:STANDARD
BEGIN:DAYLIGHT
TZOFFSETFROM:-0600
TZOFFSETTO:-0500
TZNAME:CDT
DTSTART:20190310T080000
END:DAYLIGHT
BEGIN:STANDARD
TZOFFSETFROM:-0500
TZOFFSETTO:-0600
TZNAME:CST
DTSTART:20191103T070000
END:STANDARD
BEGIN:DAYLIGHT
TZOFFSETFROM:-0600
TZOFFSETTO:-0500
TZNAME:CDT
DTSTART:20200308T080000
END:DAYLIGHT
BEGIN:STANDARD
TZOFFSETFROM:-0500
TZOFFSETTO:-0600
TZNAME:CST
DTSTART:20201101T070000
END:STANDARD
BEGIN:DAYLIGHT
TZOFFSETFROM:-0600
TZOFFSETTO:-0500
TZNAME:CDT
DTSTART:20210314T080000
END:DAYLIGHT
BEGIN:STANDARD
TZOFFSETFROM:-0500
TZOFFSETTO:-0600
TZNAME:CST
DTSTART:20211107T070000
END:STANDARD
END:VTIMEZONE
BEGIN:VEVENT
DTSTART;TZID=America/Chicago:20200125T090000
DTEND;TZID=America/Chicago:20200125T120000
DTSTAMP:20260421T040001
CREATED:20181202T152006Z
LAST-MODIFIED:20181202T152006Z
UID:7696-1579942800-1579953600@townofyork.org
SUMMARY:Property Tax Collections - Town Hall
DESCRIPTION:Please stop by the York Town Hall on this date to drop off your property tax payments in person to the Town of York Treasure.
URL:https://townofyork.org/event/property-tax-collections-town-hall-4/
LOCATION:York Town Hall\, N8105 Postville Road\, Blanchardville\, WI\, 53516\, United States
CATEGORIES:Tax Collections
ORGANIZER;CN="Town of York":MAILTO:info@townofyork.org
END:VEVENT
BEGIN:VEVENT
DTSTART;TZID=America/Chicago:20191228T090000
DTEND;TZID=America/Chicago:20191228T120000
DTSTAMP:20260421T040001
CREATED:20181202T151636Z
LAST-MODIFIED:20181202T151636Z
UID:7695-1577523600-1577534400@townofyork.org
SUMMARY:Property Tax Collections - Town Hall
DESCRIPTION:Please stop by the York Town Hall on this date to drop off your property tax payments in person to the Town of York Treasure.
URL:https://townofyork.org/event/property-tax-collections-town-hall-3/
LOCATION:York Town Hall\, N8105 Postville Road\, Blanchardville\, WI\, 53516\, United States
CATEGORIES:Tax Collections
END:VEVENT
END:VCALENDAR