BEGIN:VCALENDAR
VERSION:2.0
PRODID:-//Town of York - ECPv6.15.20//NONSGML v1.0//EN
CALSCALE:GREGORIAN
METHOD:PUBLISH
X-ORIGINAL-URL:https://townofyork.org
X-WR-CALDESC:Events for Town of York
REFRESH-INTERVAL;VALUE=DURATION:PT1H
X-Robots-Tag:noindex
X-PUBLISHED-TTL:PT1H
BEGIN:VTIMEZONE
TZID:America/Chicago
BEGIN:DAYLIGHT
TZOFFSETFROM:-0600
TZOFFSETTO:-0500
TZNAME:CDT
DTSTART:20180311T080000
END:DAYLIGHT
BEGIN:STANDARD
TZOFFSETFROM:-0500
TZOFFSETTO:-0600
TZNAME:CST
DTSTART:20181104T070000
END:STANDARD
BEGIN:DAYLIGHT
TZOFFSETFROM:-0600
TZOFFSETTO:-0500
TZNAME:CDT
DTSTART:20190310T080000
END:DAYLIGHT
BEGIN:STANDARD
TZOFFSETFROM:-0500
TZOFFSETTO:-0600
TZNAME:CST
DTSTART:20191103T070000
END:STANDARD
BEGIN:DAYLIGHT
TZOFFSETFROM:-0600
TZOFFSETTO:-0500
TZNAME:CDT
DTSTART:20200308T080000
END:DAYLIGHT
BEGIN:STANDARD
TZOFFSETFROM:-0500
TZOFFSETTO:-0600
TZNAME:CST
DTSTART:20201101T070000
END:STANDARD
BEGIN:DAYLIGHT
TZOFFSETFROM:-0600
TZOFFSETTO:-0500
TZNAME:CDT
DTSTART:20210314T080000
END:DAYLIGHT
BEGIN:STANDARD
TZOFFSETFROM:-0500
TZOFFSETTO:-0600
TZNAME:CST
DTSTART:20211107T070000
END:STANDARD
BEGIN:DAYLIGHT
TZOFFSETFROM:-0600
TZOFFSETTO:-0500
TZNAME:CDT
DTSTART:20220313T080000
END:DAYLIGHT
BEGIN:STANDARD
TZOFFSETFROM:-0500
TZOFFSETTO:-0600
TZNAME:CST
DTSTART:20221106T070000
END:STANDARD
BEGIN:DAYLIGHT
TZOFFSETFROM:-0600
TZOFFSETTO:-0500
TZNAME:CDT
DTSTART:20230312T080000
END:DAYLIGHT
BEGIN:STANDARD
TZOFFSETFROM:-0500
TZOFFSETTO:-0600
TZNAME:CST
DTSTART:20231105T070000
END:STANDARD
BEGIN:DAYLIGHT
TZOFFSETFROM:-0600
TZOFFSETTO:-0500
TZNAME:CDT
DTSTART:20240310T080000
END:DAYLIGHT
BEGIN:STANDARD
TZOFFSETFROM:-0500
TZOFFSETTO:-0600
TZNAME:CST
DTSTART:20241103T070000
END:STANDARD
END:VTIMEZONE
BEGIN:VEVENT
DTSTART;TZID=America/Chicago:20230110T193000
DTEND;TZID=America/Chicago:20230110T213000
DTSTAMP:20260421T120211
CREATED:20230107T214426Z
LAST-MODIFIED:20230107T214516Z
UID:9244-1673379000-1673386200@townofyork.org
SUMMARY:Town Board Meeting
DESCRIPTION:
URL:https://townofyork.org/event/town-caucus/
LOCATION:York Town Hall\, N8105 Postville Road\, Blanchardville\, WI\, 53516\, United States
CATEGORIES:Town Board Meeting
END:VEVENT
BEGIN:VEVENT
DTSTART;TZID=America/Chicago:20200609T193000
DTEND;TZID=America/Chicago:20200609T220000
DTSTAMP:20260421T120211
CREATED:20181202T154903Z
LAST-MODIFIED:20181202T154903Z
UID:7693-1591731000-1591740000@townofyork.org
SUMMARY:Monthly Town Board Meeting
DESCRIPTION:
URL:https://townofyork.org/event/monthly-town-board-meeting-21/
LOCATION:York Town Hall\, N8105 Postville Road\, Blanchardville\, WI\, 53516\, United States
CATEGORIES:Town Board Meeting
ORGANIZER;CN="Town of York":MAILTO:info@townofyork.org
END:VEVENT
BEGIN:VEVENT
DTSTART;TZID=America/Chicago:20200512T193000
DTEND;TZID=America/Chicago:20200512T220000
DTSTAMP:20260421T120211
CREATED:20181202T154903Z
LAST-MODIFIED:20181202T154903Z
UID:7692-1589311800-1589320800@townofyork.org
SUMMARY:Monthly Town Board Meeting
DESCRIPTION:
URL:https://townofyork.org/event/monthly-town-board-meeting-20/
LOCATION:York Town Hall\, N8105 Postville Road\, Blanchardville\, WI\, 53516\, United States
CATEGORIES:Town Board Meeting
ORGANIZER;CN="Town of York":MAILTO:info@townofyork.org
END:VEVENT
BEGIN:VEVENT
DTSTART;TZID=America/Chicago:20200414T193000
DTEND;TZID=America/Chicago:20200414T220000
DTSTAMP:20260421T120211
CREATED:20200407T130003Z
LAST-MODIFIED:20200407T142249Z
UID:7691-1586892600-1586901600@townofyork.org
SUMMARY:Monthly Town Board Meeting
DESCRIPTION:Topic: Town of York April meeting\nTime: Apr 14\, 2020 07:15 PM Central Time (US and Canada) \nJoin Zoom Meeting\nhttps://us04web.zoom.us/j/625338646?pwd=SEsxVERnVDNjMDJyNy81ZFlzTXp4dz09 \nMeeting ID: 625 338 646\nPassword: 53516 \nOne tap mobile\n+13126266799\,\,625338646# US (Chicago)\n+19294362866\,\,625338646# US (New York) \nDial by your location\n+1 312 626 6799 US (Chicago)\n+1 929 436 2866 US (New York)\n+1 346 248 7799 US (Houston)\n+1 669 900 6833 US (San Jose)\n+1 253 215 8782 US\n+1 301 715 8592 US \nMeeting ID: 625 338 646\nFind your local number: https://us04web.zoom.us/u/fcCV9uQBMX
URL:https://townofyork.org/event/monthly-town-board-meeting-19/
LOCATION:York Town Hall\, N8105 Postville Road\, Blanchardville\, WI\, 53516\, United States
CATEGORIES:Town Board Meeting
ORGANIZER;CN="Town of York":MAILTO:info@townofyork.org
END:VEVENT
BEGIN:VEVENT
DTSTART;TZID=America/Chicago:20200310T193000
DTEND;TZID=America/Chicago:20200310T220000
DTSTAMP:20260421T120211
CREATED:20181202T154903Z
LAST-MODIFIED:20181202T154903Z
UID:7690-1583868600-1583877600@townofyork.org
SUMMARY:Monthly Town Board Meeting
DESCRIPTION:
URL:https://townofyork.org/event/monthly-town-board-meeting-18/
LOCATION:York Town Hall\, N8105 Postville Road\, Blanchardville\, WI\, 53516\, United States
CATEGORIES:Town Board Meeting
ORGANIZER;CN="Town of York":MAILTO:info@townofyork.org
END:VEVENT
BEGIN:VEVENT
DTSTART;TZID=America/Chicago:20200211T193000
DTEND;TZID=America/Chicago:20200211T220000
DTSTAMP:20260421T120211
CREATED:20181202T154903Z
LAST-MODIFIED:20181202T154903Z
UID:7689-1581449400-1581458400@townofyork.org
SUMMARY:Monthly Town Board Meeting
DESCRIPTION:
URL:https://townofyork.org/event/monthly-town-board-meeting-17/
LOCATION:York Town Hall\, N8105 Postville Road\, Blanchardville\, WI\, 53516\, United States
CATEGORIES:Town Board Meeting
ORGANIZER;CN="Town of York":MAILTO:info@townofyork.org
END:VEVENT
BEGIN:VEVENT
DTSTART;TZID=America/Chicago:20200114T193000
DTEND;TZID=America/Chicago:20200114T220000
DTSTAMP:20260421T120211
CREATED:20181202T154903Z
LAST-MODIFIED:20181202T154903Z
UID:7688-1579030200-1579039200@townofyork.org
SUMMARY:Monthly Town Board Meeting
DESCRIPTION:
URL:https://townofyork.org/event/monthly-town-board-meeting-16/
LOCATION:York Town Hall\, N8105 Postville Road\, Blanchardville\, WI\, 53516\, United States
CATEGORIES:Town Board Meeting
ORGANIZER;CN="Town of York":MAILTO:info@townofyork.org
END:VEVENT
BEGIN:VEVENT
DTSTART;TZID=America/Chicago:20191210T193000
DTEND;TZID=America/Chicago:20191210T220000
DTSTAMP:20260421T120211
CREATED:20181202T154903Z
LAST-MODIFIED:20190619T150905Z
UID:7211-1576006200-1576015200@townofyork.org
SUMMARY:Monthly Town Board Meeting
DESCRIPTION:
URL:https://townofyork.org/event/monthly-town-board-meeting-15/
LOCATION:York Town Hall\, N8105 Postville Road\, Blanchardville\, WI\, 53516\, United States
CATEGORIES:Town Board Meeting
ORGANIZER;CN="Town of York":MAILTO:info@townofyork.org
END:VEVENT
BEGIN:VEVENT
DTSTART;TZID=America/Chicago:20191112T193000
DTEND;TZID=America/Chicago:20191112T220000
DTSTAMP:20260421T120211
CREATED:20181202T154903Z
LAST-MODIFIED:20190619T150911Z
UID:7210-1573587000-1573596000@townofyork.org
SUMMARY:Monthly Town Board Meeting
DESCRIPTION:
URL:https://townofyork.org/event/monthly-town-board-meeting-14/
LOCATION:York Town Hall\, N8105 Postville Road\, Blanchardville\, WI\, 53516\, United States
CATEGORIES:Town Board Meeting
ORGANIZER;CN="Town of York":MAILTO:info@townofyork.org
END:VEVENT
BEGIN:VEVENT
DTSTART;TZID=America/Chicago:20191008T193000
DTEND;TZID=America/Chicago:20191008T220000
DTSTAMP:20260421T120211
CREATED:20181202T154903Z
LAST-MODIFIED:20190619T150917Z
UID:7209-1570563000-1570572000@townofyork.org
SUMMARY:Monthly Town Board Meeting
DESCRIPTION:
URL:https://townofyork.org/event/monthly-town-board-meeting-13/
LOCATION:York Town Hall\, N8105 Postville Road\, Blanchardville\, WI\, 53516\, United States
CATEGORIES:Town Board Meeting
ORGANIZER;CN="Town of York":MAILTO:info@townofyork.org
END:VEVENT
BEGIN:VEVENT
DTSTART;TZID=America/Chicago:20190910T193000
DTEND;TZID=America/Chicago:20190910T220000
DTSTAMP:20260421T120211
CREATED:20181202T154903Z
LAST-MODIFIED:20190619T151103Z
UID:7208-1568143800-1568152800@townofyork.org
SUMMARY:Monthly Town Board Meeting
DESCRIPTION:
URL:https://townofyork.org/event/monthly-town-board-meeting-12/
LOCATION:York Town Hall\, N8105 Postville Road\, Blanchardville\, WI\, 53516\, United States
CATEGORIES:Town Board Meeting
ORGANIZER;CN="Town of York":MAILTO:info@townofyork.org
END:VEVENT
BEGIN:VEVENT
DTSTART;TZID=America/Chicago:20190813T193000
DTEND;TZID=America/Chicago:20190813T220000
DTSTAMP:20260421T120211
CREATED:20181202T154903Z
LAST-MODIFIED:20190619T151109Z
UID:7207-1565724600-1565733600@townofyork.org
SUMMARY:Monthly Town Board Meeting
DESCRIPTION:
URL:https://townofyork.org/event/monthly-town-board-meeting-11/
LOCATION:York Town Hall\, N8105 Postville Road\, Blanchardville\, WI\, 53516\, United States
CATEGORIES:Town Board Meeting
ORGANIZER;CN="Town of York":MAILTO:info@townofyork.org
END:VEVENT
BEGIN:VEVENT
DTSTART;TZID=America/Chicago:20190709T193000
DTEND;TZID=America/Chicago:20190709T220000
DTSTAMP:20260421T120211
CREATED:20181202T154903Z
LAST-MODIFIED:20190619T151112Z
UID:7206-1562700600-1562709600@townofyork.org
SUMMARY:Monthly Town Board Meeting
DESCRIPTION:
URL:https://townofyork.org/event/monthly-town-board-meeting-10/
LOCATION:York Town Hall\, N8105 Postville Road\, Blanchardville\, WI\, 53516\, United States
CATEGORIES:Town Board Meeting
ORGANIZER;CN="Town of York":MAILTO:info@townofyork.org
END:VEVENT
BEGIN:VEVENT
DTSTART;TZID=America/Chicago:20190611T200000
DTEND;TZID=America/Chicago:20190611T220000
DTSTAMP:20260421T120211
CREATED:20181202T154903Z
LAST-MODIFIED:20181202T154903Z
UID:7205-1560283200-1560290400@townofyork.org
SUMMARY:Monthly Town Board Meeting
DESCRIPTION:
URL:https://townofyork.org/event/monthly-town-board-meeting-9/
LOCATION:York Town Hall\, N8105 Postville Road\, Blanchardville\, WI\, 53516\, United States
CATEGORIES:Town Board Meeting
ORGANIZER;CN="Town of York":MAILTO:info@townofyork.org
END:VEVENT
BEGIN:VEVENT
DTSTART;TZID=America/Chicago:20190514T200000
DTEND;TZID=America/Chicago:20190514T220000
DTSTAMP:20260421T120211
CREATED:20181202T154903Z
LAST-MODIFIED:20181202T154903Z
UID:7204-1557864000-1557871200@townofyork.org
SUMMARY:Monthly Town Board Meeting
DESCRIPTION:
URL:https://townofyork.org/event/monthly-town-board-meeting-8/
LOCATION:York Town Hall\, N8105 Postville Road\, Blanchardville\, WI\, 53516\, United States
CATEGORIES:Town Board Meeting
ORGANIZER;CN="Town of York":MAILTO:info@townofyork.org
END:VEVENT
END:VCALENDAR